BEGIN:VCALENDAR
VERSION:2.0
PRODID:-//FSJ Sisters - ECPv6.13.2.1//NONSGML v1.0//EN
CALSCALE:GREGORIAN
METHOD:PUBLISH
X-ORIGINAL-URL:https://fsjsisterschennai1883.org
X-WR-CALDESC:Events for FSJ Sisters
REFRESH-INTERVAL;VALUE=DURATION:PT1H
X-Robots-Tag:noindex
X-PUBLISHED-TTL:PT1H
BEGIN:VTIMEZONE
TZID:UTC
BEGIN:STANDARD
TZOFFSETFROM:+0000
TZOFFSETTO:+0000
TZNAME:UTC
DTSTART:20250101T000000
END:STANDARD
END:VTIMEZONE
BEGIN:VEVENT
DTSTART;VALUE=DATE:20250413
DTEND;VALUE=DATE:20250414
DTSTAMP:20260424T163846
CREATED:20250328T075507Z
LAST-MODIFIED:20250328T075634Z
UID:23713-1744502400-1744588799@fsjsisterschennai1883.org
SUMMARY:Palm Sunday
DESCRIPTION:
URL:https://fsjsisterschennai1883.org/event/palm-sunday/
CATEGORIES:Festival
END:VEVENT
BEGIN:VEVENT
DTSTART;VALUE=DATE:20250417
DTEND;VALUE=DATE:20250418
DTSTAMP:20260424T163846
CREATED:20250328T075726Z
LAST-MODIFIED:20250328T080008Z
UID:23715-1744848000-1744934399@fsjsisterschennai1883.org
SUMMARY:Holy Thursday
DESCRIPTION:
URL:https://fsjsisterschennai1883.org/event/holy-thursday/
CATEGORIES:Festival
END:VEVENT
BEGIN:VEVENT
DTSTART;VALUE=DATE:20250418
DTEND;VALUE=DATE:20250419
DTSTAMP:20260424T163846
CREATED:20250328T075800Z
LAST-MODIFIED:20250328T075800Z
UID:23717-1744934400-1745020799@fsjsisterschennai1883.org
SUMMARY:Holy Friday
DESCRIPTION:
URL:https://fsjsisterschennai1883.org/event/holy-friday/
CATEGORIES:Festival
END:VEVENT
BEGIN:VEVENT
DTSTART;VALUE=DATE:20250420
DTEND;VALUE=DATE:20250421
DTSTAMP:20260424T163846
CREATED:20250328T080041Z
LAST-MODIFIED:20250328T080041Z
UID:23722-1745107200-1745193599@fsjsisterschennai1883.org
SUMMARY:Easter Sunday
DESCRIPTION:
URL:https://fsjsisterschennai1883.org/event/easter-sunday/
CATEGORIES:Festival
END:VEVENT
END:VCALENDAR